BEGIN:VCALENDAR
VERSION:2.0
PRODID:-//Ruth Galvan campus - ECPv6.15.20//NONSGML v1.0//EN
CALSCALE:GREGORIAN
METHOD:PUBLISH
X-WR-CALNAME:Ruth Galvan campus
X-ORIGINAL-URL:https://campusruthgalvan.com
X-WR-CALDESC:Eventos para Ruth Galvan campus
REFRESH-INTERVAL;VALUE=DURATION:PT1H
X-Robots-Tag:noindex
X-PUBLISHED-TTL:PT1H
BEGIN:VTIMEZONE
TZID:Europe/Madrid
BEGIN:DAYLIGHT
TZOFFSETFROM:+0100
TZOFFSETTO:+0200
TZNAME:CEST
DTSTART:20250330T010000
END:DAYLIGHT
BEGIN:STANDARD
TZOFFSETFROM:+0200
TZOFFSETTO:+0100
TZNAME:CET
DTSTART:20251026T010000
END:STANDARD
BEGIN:DAYLIGHT
TZOFFSETFROM:+0100
TZOFFSETTO:+0200
TZNAME:CEST
DTSTART:20260329T010000
END:DAYLIGHT
BEGIN:STANDARD
TZOFFSETFROM:+0200
TZOFFSETTO:+0100
TZNAME:CET
DTSTART:20261025T010000
END:STANDARD
BEGIN:DAYLIGHT
TZOFFSETFROM:+0100
TZOFFSETTO:+0200
TZNAME:CEST
DTSTART:20270328T010000
END:DAYLIGHT
BEGIN:STANDARD
TZOFFSETFROM:+0200
TZOFFSETTO:+0100
TZNAME:CET
DTSTART:20271031T010000
END:STANDARD
END:VTIMEZONE
BEGIN:VEVENT
DTSTART;TZID=Europe/Madrid:20260421T123000
DTEND;TZID=Europe/Madrid:20260421T133000
DTSTAMP:20260421T122847
CREATED:20260416T175305Z
LAST-MODIFIED:20260420T083923Z
UID:24922-1776774600-1776778200@campusruthgalvan.com
SUMMARY:(A) Dudas (Recuperación)
DESCRIPTION:
URL:https://campusruthgalvan.com/event/dudas-recuperacion/
CATEGORIES:Auxilio Avanzado,Gestión Avanzado,Tramitación Avanzado
END:VEVENT
BEGIN:VEVENT
DTSTART;TZID=Europe/Madrid:20260421T190000
DTEND;TZID=Europe/Madrid:20260421T210000
DTSTAMP:20260421T122847
CREATED:20250624T065541Z
LAST-MODIFIED:20260420T073907Z
UID:17648-1776798000-1776805200@campusruthgalvan.com
SUMMARY:Tribunal Jurado y Ejecuciones Penales.
DESCRIPTION:
URL:https://campusruthgalvan.com/event/penales-ii-procedimiento-ordinario-sumario-y-fase-intermedia/
CATEGORIES:Auxilio,Gestión,Tramitación
END:VEVENT
END:VCALENDAR